BEGIN:VCALENDAR
VERSION:2.0
PRODID:-//www.therwil.ch//NONSGML kigkonsult.se iCalcreator 2.22//
CALSCALE:GREGORIAN
METHOD:PUBLISH
X-WR-TIMEZONE','EUROPE/BERLIN:
BEGIN:VEVENT
UID:20260424T171648CEST-71075Iew2U@www.therwil.ch
DTSTAMP:20260424T151648Z
DESCRIPTION:Klicken Sie auf den folgenden Link\, um weitere Informationen z
 ur Veranstaltung zu erhalten:\nhttps://www.therwil.ch/de/veranstaltungen/d
 etail/detail.php?i=22935
DTSTART:20270731T180000
DTEND:20270801T000000
LOCATION:Mehrzweckhalle / Bahnhofschulhaus
SUMMARY:Bundesfeier Therwil
END:VEVENT
END:VCALENDAR
