BEGIN:VCALENDAR
VERSION:2.0
PRODID:-//www.therwil.ch//NONSGML kigkonsult.se iCalcreator 2.22//
CALSCALE:GREGORIAN
METHOD:PUBLISH
X-WR-TIMEZONE','EUROPE/BERLIN:
BEGIN:VEVENT
UID:20260424T171648CEST-6464T7CsVd@www.therwil.ch
DTSTAMP:20260424T151648Z
DESCRIPTION:Klicken Sie auf den folgenden Link\, um weitere Informationen z
 ur Veranstaltung zu erhalten:\nhttps://www.therwil.ch/de/veranstaltungen/d
 etail/detail.php?i=22930
DTSTART:20270918T100000
DTEND:20270918T170000
LOCATION:Mittlerer -  Kreis / Mühleweg
SUMMARY:Herbstmarkt Therwil
END:VEVENT
END:VCALENDAR
