BEGIN:VCALENDAR
VERSION:2.0
PRODID:-//www.therwil.ch//NONSGML kigkonsult.se iCalcreator 2.22//
CALSCALE:GREGORIAN
METHOD:PUBLISH
X-WR-TIMEZONE','EUROPE/BERLIN:
BEGIN:VEVENT
UID:20260424T171734CEST-3218f0gwMF@www.therwil.ch
DTSTAMP:20260424T151734Z
DESCRIPTION:Klicken Sie auf den folgenden Link\, um weitere Informationen z
 ur Veranstaltung zu erhalten:\nhttps://www.therwil.ch/de/veranstaltungen/d
 etail/detail.php?i=22929
DTSTART:20270109T090000
DTEND:20270110T160000
LOCATION:Mehrzweckhalle
SUMMARY:Hallenflohmarkt Therwil
END:VEVENT
END:VCALENDAR
