BEGIN:VCALENDAR
VERSION:2.0
PRODID:-//www.therwil.ch//NONSGML kigkonsult.se iCalcreator 2.22//
CALSCALE:GREGORIAN
METHOD:PUBLISH
X-WR-TIMEZONE','EUROPE/BERLIN:
BEGIN:VEVENT
UID:20260422T115039CEST-8726HSvD5F@www.therwil.ch
DTSTAMP:20260422T095039Z
DESCRIPTION:Klicken Sie auf den folgenden Link\, um weitere Informationen z
 ur Veranstaltung zu erhalten:\nhttps://www.therwil.ch/de/veranstaltungen/d
 etail/detail.php?i=1
DTSTART:20260422T143000
DTEND:20260422T150000
LOCATION:Gemeinde- und Schulbibliothek Therwil 
SUMMARY:Geschichtenstunde für die Kleinen 
END:VEVENT
END:VCALENDAR
