BEGIN:VCALENDAR
VERSION:2.0
PRODID:-//www.therwil.ch//NONSGML kigkonsult.se iCalcreator 2.22//
CALSCALE:GREGORIAN
METHOD:PUBLISH
X-WR-TIMEZONE','EUROPE/BERLIN:
BEGIN:VEVENT
UID:20260423T145020CEST-59313R0uPM@www.therwil.ch
DTSTAMP:20260423T125020Z
DESCRIPTION:Klicken Sie auf den folgenden Link\, um weitere Informationen z
 ur Veranstaltung zu erhalten:\nhttps://www.therwil.ch/de/abfallwirtschaft/
 abfallkalender/detail/detail.php?i=2043
DTSTART:20260515T000000
LOCATION:Seite West
SUMMARY:Kleinsperrgut (brennbar)
END:VEVENT
END:VCALENDAR
