BEGIN:VCALENDAR
VERSION:2.0
PRODID:-//www.therwil.ch//NONSGML kigkonsult.se iCalcreator 2.22//
CALSCALE:GREGORIAN
METHOD:PUBLISH
X-WR-TIMEZONE','EUROPE/BERLIN:
BEGIN:VEVENT
UID:20260423T144803CEST-4173ZKVHAH@www.therwil.ch
DTSTAMP:20260423T124803Z
DESCRIPTION:Klicken Sie auf den folgenden Link\, um weitere Informationen z
 ur Veranstaltung zu erhalten:\nhttps://www.therwil.ch/de/abfallwirtschaft/
 abfallkalender/detail/detail.php?i=2013
DTSTART:20260924T000000
LOCATION:Seite West
SUMMARY:Kleinsperrgut (brennbar)
END:VEVENT
END:VCALENDAR
