BEGIN:VCALENDAR
VERSION:2.0
PRODID:-//www.therwil.ch//NONSGML kigkonsult.se iCalcreator 2.22//
CALSCALE:GREGORIAN
METHOD:PUBLISH
X-WR-TIMEZONE','EUROPE/BERLIN:
BEGIN:VEVENT
UID:20260423T144820CEST-1522Pvb9nx@www.therwil.ch
DTSTAMP:20260423T124820Z
DESCRIPTION:Klicken Sie auf den folgenden Link\, um weitere Informationen z
 ur Veranstaltung zu erhalten:\nhttps://www.therwil.ch/de/abfallwirtschaft/
 abfallkalender/detail/detail.php?i=1973
DTSTART:20260507T000000
LOCATION:Seite West
SUMMARY:Hauskehricht 
END:VEVENT
END:VCALENDAR
