BEGIN:VCALENDAR
VERSION:2.0
PRODID:-//www.therwil.ch//NONSGML kigkonsult.se iCalcreator 2.22//
CALSCALE:GREGORIAN
METHOD:PUBLISH
X-WR-TIMEZONE','EUROPE/BERLIN:
BEGIN:VEVENT
UID:20260423T145435CEST-63848BuHaj@www.therwil.ch
DTSTAMP:20260423T125435Z
DESCRIPTION:Klicken Sie auf den folgenden Link\, um weitere Informationen z
 ur Veranstaltung zu erhalten:\nhttps://www.therwil.ch/de/abfallwirtschaft/
 abfallkalender/detail/detail.php?i=1772
DTSTART:20260520T000000
LOCATION:Ganzes Gemeindegebiet
SUMMARY:Grobsperrgut
END:VEVENT
END:VCALENDAR
